Workbook
Name TAB_SEGURO: TAB_SEGURO!$1:$1048576
Name vlr_benef: #REF!

Sheet SIMULADOR
D3: Simulador da Cobertura Adicional de Risco (CAR) de morte e/ou invalidez
O4: =CÁLCULO!E8
H5: ="Data da simulação: "&(TEXT(TODAY(),"D/M/AAAA")) -> Data da simulação: 21/11/2023 | O5: =CÁLCULO!E9
C6: INFORMAÇÕES (preencher os campos destacados em verde)
E7: (dd/mm/aaaa)
C8: Data de nascimento: | F8: =IF(E8>0,IF(E8="","",DATEDIF(E8,TODAY(),"Y"))&" anos de idade (na data do protocolo do formulário de contratação)","")
D9: =IF(E8>0,IF(E8="","",DATEDIF(E8,TODAY(),"Y"))) -> FALSE
E10: ↓ Lançar no formulário de contratação da CAR ↓
C11: Tipo da cobertura | E11: Valor do capital segurado* | F11: Contribuição bruta (mensal) | J11: Dedução do IRPF (até 27,5%) | L11: Contribuçao líquida (mensal)
C12: Morte natural ou acidental (MQC): | F12: =IFERROR(CÁLCULO!F8,"") | J12: =IFERROR(-F12*27.5%,"") | L12: =IFERROR(F12+J12,"")
C13: Invalidez permanente e total (IP): | F13: =IFERROR(CÁLCULO!F9,"") | J13: =IFERROR(-F13*27.5%,"") | L13: =IFERROR(F13+J13,"")
C14: *de 18 a 70 anos: de R$ 20.000,00 a R$ 3.123.819,00. | F14: =SUM(F12:H13) -> 0 | J14: =SUM(J12:J13) -> 0 | L14: =SUM(L12:L13) -> 0
C15: *de 71 a 75 anos: de R$ 20.000,00 a R$ 500.000,00.
C17: PROJEÇÃO DE VALORES (preenchimento opcional)
C19: Prazo para recebimento(1) (de 60 a 480 meses) | E19: Tipo de cobertura | F19: Valor(2) do benefício mensal | J19: Percentual(3) para recebimento à vista (até 25%)
E20: Morte (MQC) | F20: =Benefício!C19 | J20: 0 | L20: =IFERROR(J20*O4,"")
C21: =IF(C20="","",IF((C20/12-INT(C20/12))*12=0,INT(C20/12)&" anos",INT(C20/12)&" anos e "&ROUND((C20/12-INT(C20/12))*12,2)&" mês(es)")) | E21: Invalidez (IP) | F21: =Benefício!D19 | J21: 0 | L21: =IFERROR(J21*O5,"")
C23: (1) O capital segurado poderá ser recebido de 60 a 480 meses (benefício) ou até 25% à vista e o restante de 60 a 480 meses (benefício).
C24: (2) Incidirá taxa de carregamento e IRPF (tabela regressiva ou progressiva escolhida). No cálculo foi utilizada a rentabilidade real projetada de 4,25% ao ano (que desconsidera a inflação do período). A simulação não representa promessa de rentabilidade ou garantia de valor do benefícios.
C25: (3) Incidirá IRPF sobre o valor recebido à vista (tabela regressiva ou progressiva, conforme a opção realizada).

Sheet CÁLCULO
B6: 18 | D6: Garantias | E6: Cobertura INTEGRAL | G6: Cobertura PROVISÓRIA (10% do valor da cobertura)
B7: 75 | E7: Capital segurado | F7: Contribuição de risco | G7: Capital segurado (provisório) | H7: Contribuição de risco (provisória)
B8: =SIMULADOR!E8 -> 0 | D8: Morte | E8: =IF(OR($B$9>$B$7,$B$9<$B$6),"",IF(SIMULADOR!E12="","",IF($B$9>=71,MIN(SIMULADOR!E12,500000),SIMULADOR!E12))) | F8: =IF(E8="","",VLOOKUP(SIMULADOR!D9,TAB_SEGURO,5,0)*(E8/(VLOOKUP(SIMULADOR!D9,TAB_SEGURO,2,0)))) | G8: =IF(E8="","",IF(OR(I8=TRUE,I7=TRUE),E8*10%,"")) | H8: =IF(F8="","",IF(OR(I8=TRUE,I7=TRUE),F8*10%,"")) | I8: TRUE
B9: =IF(B8>0,IF(B8="","",DATEDIF(B8,TODAY(),"Y"))) -> FALSE | D9: Invalidez permanente | E9: =IF(OR($B$9>$B$7,$B$9<$B$6),"",IF(SIMULADOR!E13="","",IF($B$9>=71,MIN(SIMULADOR!E13,500000),SIMULADOR!E13))) | F9: =IF(E9="","",VLOOKUP(SIMULADOR!D9,TAB_SEGURO,4,0)*(E9/(VLOOKUP(SIMULADOR!D9,TAB_SEGURO,2,0)))) | G9: =IF(E9="","",IF(OR(I9=TRUE,I7=TRUE),E9*10%,"")) | H9: =IF(F9="","",IF(OR(I9=TRUE,I7=TRUE),F9*10%,"")) | I9: TRUE
E10: Total | F10: =SUM(F8:F9) -> 0 | G10: Total | H10: =SUM(H8:H9) -> 0

Sheet Benefício
B5: Garantias | C5: Cobertura
C6: Capital segurado
B7: Morte qualquer causa | C7: =SIMULADOR!E12 -> 0
B8: Invalidez permanente e total | C8: =SIMULADOR!E13 -> 0
B11: Percentual escolhido pelo participante ou beneficiários no momento da concessão limitado a 25% | C11: =SIMULADOR!J21 -> 0 | D11: =SIMULADOR!J20 -> 0
B13: Pagamento Único no caso de morte | C13: =D11*C7 -> 0
B14: Pagamento Único no caso de invalidez | C14: =C11*C8 -> 0
B16: Prazo (em meses) escolhido pelo Recebedor do benefício sumplementar | C16: =IF(SIMULADOR!C20="","",SIMULADOR!C20) | D16: =IF(C16="","",IF((C16/12-INT(C16/12))*12=0,INT(C16/12)&" anos.",INT(C16/12)&" anos e "&(C16/12-INT(C16/12))*12&" meses."))
B18: Prazo (meses) | C18: Valor do Benefício bruto no caso de Morte | D18: Valor do Benefício bruto no caso de Invalidez
B19: =IF(C16="","",C16) | C19: =IFERROR(IF(B19="","",VLOOKUP(B19,$B$22:$D$443,2,0)),"") | D19: =IFERROR(IF(B19="","",VLOOKUP(B19,$B$22:$D$443,3,0)),"")
B22: Prazo (meses) | C22: Valor do Benefício no caso de Morte | D22: Valor do Benefício no caso de Invalidez
B23: 60 | C23: =$C$7*(1-$D$11)/(PV((1+4.25%)^(1/12)-1,B23,-1,0)+PV(4.25%,B23/12,-1,0)) -> 0 | D23: =$C$8*(1-$C$11)/(PV((1+4.25%)^(1/12)-1,B23,-1,0)+PV(4.25%,B23/12,-1,0)) -> 0
B24: =B23+1 -> 61 | C24: =$C$7*(1-$D$11)/(PV((1+4.25%)^(1/12)-1,B24,-1,0)+PV(4.25%,B24/12,-1,0)) -> 0 | D24: =$C$8*(1-$C$11)/(PV((1+4.25%)^(1/12)-1,B24,-1,0)+PV(4.25%,B24/12,-1,0)) -> 0
B25: =B24+1 -> 62 | C25: =$C$7*(1-$D$11)/(PV((1+4.25%)^(1/12)-1,B25,-1,0)+PV(4.25%,B25/12,-1,0)) -> 0 | D25: =$C$8*(1-$C$11)/(PV((1+4.25%)^(1/12)-1,B25,-1,0)+PV(4.25%,B25/12,-1,0)) -> 0
B26: =B25+1 -> 63 | C26: =$C$7*(1-$D$11)/(PV((1+4.25%)^(1/12)-1,B26,-1,0)+PV(4.25%,B26/12,-1,0)) -> 0 | D26: =$C$8*(1-$C$11)/(PV((1+4.25%)^(1/12)-1,B26,-1,0)+PV(4.25%,B26/12,-1,0)) -> 0
B27: =B26+1 -> 64 | C27: =$C$7*(1-$D$11)/(PV((1+4.25%)^(1/12)-1,B27,-1,0)+PV(4.25%,B27/12,-1,0)) -> 0 | D27: =$C$8*(1-$C$11)/(PV((1+4.25%)^(1/12)-1,B27,-1,0)+PV(4.25%,B27/12,-1,0)) -> 0
B28: =B27+1 -> 65 | C28: =$C$7*(1-$D$11)/(PV((1+4.25%)^(1/12)-1,B28,-1,0)+PV(4.25%,B28/12,-1,0)) -> 0 | D28: =$C$8*(1-$C$11)/(PV((1+4.25%)^(1/12)-1,B28,-1,0)+PV(4.25%,B28/12,-1,0)) -> 0
B29: =B28+1 -> 66 | C29: =$C$7*(1-$D$11)/(PV((1+4.25%)^(1/12)-1,B29,-1,0)+PV(4.25%,B29/12,-1,0)) -> 0 | D29: =$C$8*(1-$C$11)/(PV((1+4.25%)^(1/12)-1,B29,-1,0)+PV(4.25%,B29/12,-1,0)) -> 0
B30: =B29+1 -> 67 | C30: =$C$7*(1-$D$11)/(PV((1+4.25%)^(1/12)-1,B30,-1,0)+PV(4.25%,B30/12,-1,0)) -> 0 | D30: =$C$8*(1-$C$11)/(PV((1+4.25%)^(1/12)-1,B30,-1,0)+PV(4.25%,B30/12,-1,0)) -> 0
B31: =B30+1 -> 68 | C31: =$C$7*(1-$D$11)/(PV((1+4.25%)^(1/12)-1,B31,-1,0)+PV(4.25%,B31/12,-1,0)) -> 0 | D31: =$C$8*(1-$C$11)/(PV((1+4.25%)^(1/12)-1,B31,-1,0)+PV(4.25%,B31/12,-1,0)) -> 0
B32: =B31+1 -> 69 | C32: =$C$7*(1-$D$11)/(PV((1+4.25%)^(1/12)-1,B32,-1,0)+PV(4.25%,B32/12,-1,0)) -> 0 | D32: =$C$8*(1-$C$11)/(PV((1+4.25%)^(1/12)-1,B32,-1,0)+PV(4.25%,B32/12,-1,0)) -> 0
B33: =B32+1 -> 70 | C33: =$C$7*(1-$D$11)/(PV((1+4.25%)^(1/12)-1,B33,-1,0)+PV(4.25%,B33/12,-1,0)) -> 0 | D33: =$C$8*(1-$C$11)/(PV((1+4.25%)^(1/12)-1,B33,-1,0)+PV(4.25%,B33/12,-1,0)) -> 0
B34: =B33+1 -> 71 | C34: =$C$7*(1-$D$11)/(PV((1+4.25%)^(1/12)-1,B34,-1,0)+PV(4.25%,B34/12,-1,0)) -> 0 | D34: =$C$8*(1-$C$11)/(PV((1+4.25%)^(1/12)-1,B34,-1,0)+PV(4.25%,B34/12,-1,0)) -> 0
B35: =B34+1 -> 72 | C35: =$C$7*(1-$D$11)/(PV((1+4.25%)^(1/12)-1,B35,-1,0)+PV(4.25%,B35/12,-1,0)) -> 0 | D35: =$C$8*(1-$C$11)/(PV((1+4.25%)^(1/12)-1,B35,-1,0)+PV(4.25%,B35/12,-1,0)) -> 0
... B443: =B442+1 -> 480 | C443: =$C$7*(1-$D$11)/(PV((1+4.25%)^(1/12)-1,B443,-1,0)+PV(4.25%,B443/12,-1,0)) -> 0 | D443: =$C$8*(1-$C$11)/(PV((1+4.25%)^(1/12)-1,B443,-1,0)+PV(4.25%,B443/12,-1,0)) -> 0

Sheet TAB_SEGURO
A1: 1 | B1: 2 | C1: 3 | D1: 4 | E1: 6
A2: Idade | B2: Capital Segurado Médio - Invalidez | C2: Capital Segurado Médio - morte | D2: Preço Unitério Seguro - Invalidez (B) | E2: Preço Unitário Seguro - morte (C)
A3: 18 | B3: 100000 | C3: 100000 | D3: 3.59 | E3: 4.14
A4: 19 | B4: 100000 | C4: 100000 | D4: 3.59 | E4: 4.14
A5: 20 | B5: 100000 | C5: 100000 | D5: 3.59 | E5: 4.14
A6: 21 | B6: 100000 | C6: 100000 | D6: 3.59 | E6: 4.14
A7: 22 | B7: 100000 | C7: 100000 | D7: 3.59 | E7: 4.14
A8: 23 | B8: 100000 | C8: 100000 | D8: 3.59 | E8: 4.14
A9: 24 | B9: 100000 | C9: 100000 | D9: 3.59 | E9: 4.14
A10: 25 | B10: 100000 | C10: 100000 | D10: 3.59 | E10: 4.14
A11: 26 | B11: 100000 | C11: 100000 | D11: 3.59 | E11: 4.14
A12: 27 | B12: 100000 | C12: 100000 | D12: 3.59 | E12: 4.14
A13: 28 | B13: 100000 | C13: 100000 | D13: 3.59 | E13: 4.14
A14: 29 | B14: 100000 | C14: 100000 | D14: 3.59 | E14: 4.14
... A60: 75 | B60: 100000 | C60: 100000 | D60: 264.39 | E60: 207.24
