Workbook

Sheet Social Media 40h
A1: PLANILHA DE CUSTOS E FORMAÇÃO DE PREÇOS
A4: MÓDULO 1 - REMUNERAÇÃO
A6: SALÁRIO BASE
A7: SALÁRIO BASE
A8: Assistente de Marketing (Social Media) 40h
A10: MÓDULO 1 - REMUNERAÇÃO
A11: MÓDULO 1 - REMUNERAÇÃO
A12: Categoria | B12: Salário Base | C12: Gratificação de função | D12: Adicional de Periculosidade ou Insalubridade | E12: Adicional Noturno | F12: Total
A13: =A8 -> Assistente de Marketing (Social Media) 40h | B13: =B8 -> 0 | C13: 0 | D13: 0 | E13: 0 | F13: =SUM(B13:E13) -> 0
A15: MÓDULO 2 - ENCARGOS E BENEFÍCIOS (ANUAIS, MENSAIS E DIÁRIOS)
A16: SUBMÓDULO 2.1 – 13° SALÁRIO, FÉRIAS E ADICIONAL DE FÉRIAS
A17: 13° SALÁRIO Previsto no Decreto 57.155, de 1965.
A18: Categoria | B18: Base de cálculo | C18: Provisionamento Mensal | D18: Valor
A19: =A8 -> Assistente de Marketing (Social Media) 40h | B19: =B13 -> 0 | C19: =1/12 -> 0.083333333 | D19: =B19*C19 -> 0
A20: FÉRIAS Previsto no art. 7° da Constituição Federal
A21: Categoria | B21: Base de cálculo | C21: Provisionamento Mensal | D21: Valor
A22: =A8 -> Assistente de Marketing (Social Media) 40h | B22: =F13 -> 0 | C22: =C19 -> 0.083333333 | D22: =B22*C22 -> 0
A23: ADICIONAL DE FÉRIAS - 1/3 CONSTITUCIONAL
A24: Categoria | B24: Base de cálculo | C24: Alíquota Adicional | D24: Provisionamento Mensal | E24: Valor
A25: =A22 -> Assistente de Marketing (Social Media) 40h | B25: =F13 -> 0 | C25: =1/3 -> 0.33333333 | D25: =1/12 -> 0.083333333 | E25: =B25*C25*D25 -> 0
A26: SUBMÓDULO 2.1 – 13° SALÁRIO, FÉRIAS E ADICIONAL DE FÉRIAS
A27: Categoria | B27: 13° Salário | C27: Férias | D27: 1/3 Constitucional | E27: Total
A28: =A25 -> Assistente de Marketing (Social Media) 40h | B28: =D19 -> 0 | C28: =D22 -> 0 | D28: =E25 -> 0 | E28: =SUM(B28:D28) -> 0
A30: SUBMÓDULO 2.2 - ENCARGOS PREVIDENCIÁRIOS E FGTS
A31: COMPOSIÇÃO DO GPS E FGTS
A32: Encargos | B32: Percentual
A33: INSS - empregador | B33: 0.2
A34: Salário-Educação | B34: 0.025
A35: SAT- GIL/RAT | B35: 0.02
A36: SESC | B36: 0.015
A37: SENAC | B37: 0.01
A38: SEBRAE | B38: 0.006
A39: INCRA | B39: 0.002
A40: FGTS | B40: 0.08
A41: TOTAL | B41: =SUM(B33:B40) -> 0.358
A43: GPS - GUIA DA PREVIDÊNCIA SOCIAL
A44: Categoria | B44: Base de cálculo | C44: Percentual | D44: Valor
A45: =A28 -> Assistente de Marketing (Social Media) 40h | B45: =F13+E28 -> 0 | C45: =SUM($B$33:$B$39) -> 0.278 | D45: =B45*C45 -> 0
A47: FGTS - FUNDO DE GARANTIA POR TEMPO DE SERVIÇO
A48: Categoria | B48: Base de cálculo | C48: Percentual | D48: Valor
...

Sheet Videomaker 40h
A1: PLANILHA DE CUSTOS E FORMAÇÃO DE PREÇOS
A4: MÓDULO 1 - REMUNERAÇÃO
A6: SALÁRIO BASE
A7: SALÁRIO BASE
A8: Editor Audiovisual (Videomaker) 40h
A10: MÓDULO 1 - REMUNERAÇÃO
A11: MÓDULO 1 - REMUNERAÇÃO
A12: Categoria | B12: Salário Base | C12: Gratificação de função | D12: Adicional de Periculosidade ou Insalubridade | E12: Adicional Noturno | F12: Total
A13: =A8 -> Editor Audiovisual (Videomaker) 40h | B13: =B8 -> 0 | C13: 0 | D13: 0 | E13: 0 | F13: =SUM(B13:E13) -> 0
A15: MÓDULO 2 - ENCARGOS E BENEFÍCIOS (ANUAIS, MENSAIS E DIÁRIOS)
A16: SUBMÓDULO 2.1 – 13° SALÁRIO, FÉRIAS E ADICIONAL DE FÉRIAS
A17: 13° SALÁRIO Previsto no Decreto 57.155, de 1965.
A18: Categoria | B18: Base de cálculo | C18: Provisionamento Mensal | D18: Valor
A19: =A8 -> Editor Audiovisual (Videomaker) 40h | B19: =B13 -> 0 | C19: =1/12 -> 0.083333333 | D19: =B19*C19 -> 0
A20: FÉRIAS Previsto no art. 7° da Constituição Federal
A21: Categoria | B21: Base de cálculo | C21: Provisionamento Mensal | D21: Valor
A22: =A8 -> Editor Audiovisual (Videomaker) 40h | B22: =F13 -> 0 | C22: =C19 -> 0.083333333 | D22: =B22*C22 -> 0
A23: ADICIONAL DE FÉRIAS - 1/3 CONSTITUCIONAL
A24: Categoria | B24: Base de cálculo | C24: Alíquota Adicional | D24: Provisionamento Mensal | E24: Valor
A25: =A22 -> Editor Audiovisual (Videomaker) 40h | B25: =F13 -> 0 | C25: =1/3 -> 0.33333333 | D25: =1/12 -> 0.083333333 | E25: =B25*C25*D25 -> 0
A26: SUBMÓDULO 2.1 – 13° SALÁRIO, FÉRIAS E ADICIONAL DE FÉRIAS
A27: Categoria | B27: 13° Salário | C27: Férias | D27: 1/3 Constitucional | E27: Total
A28: =A25 -> Editor Audiovisual (Videomaker) 40h | B28: =D19 -> 0 | C28: =D22 -> 0 | D28: =E25 -> 0 | E28: =SUM(B28:D28) -> 0
A30: SUBMÓDULO 2.2 - ENCARGOS PREVIDENCIÁRIOS E FGTS
A31: COMPOSIÇÃO DO GPS E FGTS
A32: Encargos | B32: Percentual
A33: INSS - empregador | B33: 0.2
A34: Salário-Educação | B34: 0.025
A35: SAT- GIL/RAT | B35: 0.02
A36: SESC | B36: 0.015
A37: SENAC | B37: 0.01
A38: SEBRAE | B38: 0.006
A39: INCRA | B39: 0.002
A40: FGTS | B40: 0.08
A41: TOTAL | B41: =SUM(B33:B40) -> 0.358
A43: GPS - GUIA DA PREVIDÊNCIA SOCIAL
A44: Categoria | B44: Base de cálculo | C44: Percentual | D44: Valor
A45: =A28 -> Editor Audiovisual (Videomaker) 40h | B45: =F13+E28 -> 0 | C45: =SUM($B$33:$B$39) -> 0.278 | D45: =B45*C45 -> 0
A47: FGTS - FUNDO DE GARANTIA POR TEMPO DE SERVIÇO
A48: Categoria | B48: Base de cálculo | C48: Percentual | D48: Valor
...

Sheet Resumo
C4: Item | D4: Descrição | E4: Quantidade (A) | F4: Valor Mensal Posto(s) de Trabalho (B) | G4: Valor Mensal Insumos (C) | H4: Valor Mensal Uniforme (D) | I4: Valor Mensal Total (E) = ((B*A)+(C)+(D)) | J4: Valor Total Anual (F) = (E*12)
C5: 1 | D5: ='Social Media 40h'!A8 -> Assistente de Marketing (Social Media) 40h | E5: 1 | F5: ='Social Media 40h'!B252 -> 0 | G5: ='Social Media 40h'!F224 -> 0 | H5: ='Social Media 40h'!D214 -> 0 | I5: =((F5*E5)+G5+H5) -> 0 | J5: =I5*12 -> 0
C6: 2 | D6: ='Videomaker 40h'!A8 -> Editor Audiovisual (Videomaker) 40h | E6: 1 | F6: ='Videomaker 40h'!B253 -> 0 | G6: ='Videomaker 40h'!F225 -> 0 | H6: ='Videomaker 40h'!D214 -> 0 | I6: =((F6*E6)+G6+H6) -> 0 | J6: =I6*12 -> 0
C7: Valor total 12 meses | J7: =SUM(J5:J6) -> 0
